BEGIN:VCALENDAR
VERSION:2.0
PRODID:-//wp-events-plugin.com//7.2.3.1//EN
TZID:Europe/Berlin
X-WR-TIMEZONE:Europe/Berlin
BEGIN:VEVENT
UID:165@ruhr.fau.org
DTSTART;TZID=Europe/Berlin:20260430T200000
DTEND;TZID=Europe/Berlin:20260430T210000
DTSTAMP:20260305T104554Z
URL:https://ruhr.fau.org/events/wuppertal-chaostal-trifft-die-fau-beim-dev
 -tal/
SUMMARY:Wuppertal: Chaostal trifft die FAU beim /dev/tal
DESCRIPTION:Die globalgesellschaftliche Lage ist ernst und viele sind hoffn
 ungslos. Wir wollen euch zeigen\, wie man mit der eigenen Hoffnungslosigke
 it umgeht und warum gerade wir\, die im Tech-Sektor arbeiten und das Chaos
  zu dem machen was es ist\, sich besonders gut dazu eignen basisdemokratis
 che antikapitalistische Kämpfe auszufechten. Das braucht die richtige Pro
 blemanalyse und eine noch bessere Lösungsstrategie...\n\nDie Veranstaltun
 g ist Teil des Aktionsmonats "Chaos+ trifft die FAU". Alle Infos findet ih
 r hier: https://bit.fau.org/2026/03/05/grosse-ankuendigung-chaos-trifft-di
 e-fau-aktionsmonat-april/\n\n\n\nDie FAU Ruhr ist eine basisdemokratische 
 Selbstorganisation von Arbeiter*innen (Gewerkschaft) die mehr als nur ein 
 paar Prozent mehr auf dem Lohnzettel erreichen wollen. Unser Ziel ist eine
  Wirtschafts- und Gesellschaftsordnung\, die auf kollektiver Selbstverwalt
 ung basiert. Wir setzen auf klassenkämpferische\, direkte Aktionen und (
 internationale) Solidarität statt Sozialpartnerschaft und Standortlogik.\
 n\nhttps://ruhr.fau.org
ATTACH;FMTTYPE=image/jpeg:https://ruhr.fau.org/wp-content/uploads/2026/03/
 Chaos-trifft-die-FAU-Sharepic-Wuppertal.png
CATEGORIES:Wuppertal
LOCATION:/dev/tal - Hackspace Wuppertal\, Mirker Straße 48\, Wuppertal\, N
 ordrhein-Westfalen\, 42105\, Bergisches Land\, Deutschland
X-APPLE-STRUCTURED-LOCATION;VALUE=URI;X-ADDRESS=Mirker Straße 48\, Wuppert
 al\, Nordrhein-Westfalen\, 42105\, Bergisches Land\, Deutschland;X-APPLE-R
 ADIUS=100;X-TITLE=/dev/tal - Hackspace Wuppertal:geo:0,0
END:VEVENT
BEGIN:VTIMEZONE
TZID:Europe/Berlin
X-LIC-LOCATION:Europe/Berlin
BEGIN:DAYLIGHT
DTSTART:20260329T030000
TZOFFSETFROM:+0100
TZOFFSETTO:+0200
TZNAME:CEST
END:DAYLIGHT
END:VTIMEZONE
END:VCALENDAR