BEGIN:VCALENDAR
VERSION:2.0
PRODID:-//wp-events-plugin.com//7.2.3.1//EN
TZID:Europe/Berlin
X-WR-TIMEZONE:Europe/Berlin
BEGIN:VEVENT
UID:164@ruhr.fau.org
DTSTART;TZID=Europe/Berlin:20260408T190000
DTEND;TZID=Europe/Berlin:20260408T210000
DTSTAMP:20260402T110818Z
URL:https://ruhr.fau.org/events/recklinghausen-c3re-trifft-die-fau-beim-op
 en-chaos/
SUMMARY:Recklinghausen: c3re trifft die FAU beim Open Chaos
DESCRIPTION:Die globalgesellschaftliche Lage ist ernst und viele sind hoffn
 ungslos. Wir wollen euch zeigen\, wie man mit der eigenen Hoffnungslosigke
 it umgeht und warum gerade wir\, die im Tech-Sektor arbeiten und das Chaos
  zu dem machen was es ist\, sich besonders gut dazu eignen basisdemokratis
 che antikapitalistische Kämpfe auszufechten. Das braucht die richtige Pro
 blemanalyse und eine noch bessere Lösungsstrategie...\n\nDie Veranstaltun
 g ist Teil des Aktionsmonats "Chaos+ trifft die FAU". Alle Infos findet ih
 r hier: https://bit.fau.org/2026/03/05/grosse-ankuendigung-chaos-trifft-di
 e-fau-aktionsmonat-april/\n\n\n\nDie FAU Ruhr ist eine basisdemokratische 
 Selbstorganisation von Arbeiter*innen (Gewerkschaft) die mehr als nur ein 
 paar Prozent mehr auf dem Lohnzettel erreichen wollen. Unser Ziel ist eine
  Wirtschafts- und Gesellschaftsordnung\, die auf kollektiver Selbstverwalt
 ung basiert. Wir setzen auf klassenkämpferische\, direkte Aktionen und (
 internationale) Solidarität statt Sozialpartnerschaft und Standortlogik.\
 n\nAuf https://ruhr.fau.org findet ihr unsere regelmäßigen Veranstaltung
 en in eurer Nähe (u.a. Duisburg\, Essen\, Dortmund\, Bochum)
ATTACH;FMTTYPE=image/jpeg:https://ruhr.fau.org/wp-content/uploads/2026/03/
 Chaos-trifft-die-FAU-Recklinghausen.png
CATEGORIES:Recklinghausen
LOCATION:c3re Hackerhütte\, Westcharweg 101\, Recklinghausen\, Nordrhein-W
 estfalen\, 45659\, Ruhrgebiet\, Deutschland
X-APPLE-STRUCTURED-LOCATION;VALUE=URI;X-ADDRESS=Westcharweg 101\, Recklingh
 ausen\, Nordrhein-Westfalen\, 45659\, Ruhrgebiet\, Deutschland;X-APPLE-RAD
 IUS=100;X-TITLE=c3re Hackerhütte:geo:0,0
END:VEVENT
BEGIN:VTIMEZONE
TZID:Europe/Berlin
X-LIC-LOCATION:Europe/Berlin
BEGIN:DAYLIGHT
DTSTART:20260329T030000
TZOFFSETFROM:+0100
TZOFFSETTO:+0200
TZNAME:CEST
END:DAYLIGHT
END:VTIMEZONE
END:VCALENDAR