BEGIN:VCALENDAR
VERSION:2.0
PRODID:-//wp-events-plugin.com//7.2.3.1//EN
TZID:Europe/Berlin
X-WR-TIMEZONE:Europe/Berlin
BEGIN:VEVENT
UID:168@ruhr.fau.org
DTSTART;TZID=Europe/Berlin:20260501T140000
DTEND;TZID=Europe/Berlin:20260501T180000
DTSTAMP:20260420T093745Z
URL:https://ruhr.fau.org/events/dortmund-strassenfest-zum-1-mai-kampftag-d
 er-arbeiterinnen/
SUMMARY:Dortmund: Straßenfest zum 1. Mai: Kampftag der Arbeiter:innen
DESCRIPTION:Wir als FAU Ruhr werden auf dem Straßenfest am 1. Mai im Union
  Viertel wieder einen eigenen Stand haben und möchten uns gerne mit euch 
 über eure Probleme auf der Arbeit und euren Fragen die ihr an uns habt be
 schäftigen. Egal ob Schüler*in\, Auszubildende*r\, Studierende*r\, erwer
 bslose Person\, Renter*in oder Arbeiter*in: Kommt gerne vorbei und wir qua
 tschen mal in Ruhe bei Kaffee und Kuchen drüber!
ATTACH;FMTTYPE=image/jpeg:https://ruhr.fau.org/wp-content/uploads/2024/04/
 IMG-20240404-WA0005.jpg
CATEGORIES:Dortmund,Sektion Ruhr-Ost
LOCATION:Union Salon\, Siegfriedstraße 14\, Dortmund\, Nordrhein-Westfalen
 \, 44137\, Ruhrgebiet\, Deutschland
X-APPLE-STRUCTURED-LOCATION;VALUE=URI;X-ADDRESS=Siegfriedstraße 14\, Dortm
 und\, Nordrhein-Westfalen\, 44137\, Ruhrgebiet\, Deutschland;X-APPLE-RADIU
 S=100;X-TITLE=Union Salon:geo:0,0
END:VEVENT
BEGIN:VTIMEZONE
TZID:Europe/Berlin
X-LIC-LOCATION:Europe/Berlin
BEGIN:DAYLIGHT
DTSTART:20260329T030000
TZOFFSETFROM:+0100
TZOFFSETTO:+0200
TZNAME:CEST
END:DAYLIGHT
END:VTIMEZONE
END:VCALENDAR